BEGIN:VCALENDAR
VERSION:2.0
CALSCALE:GREGORIAN
PRODID:-//Diputació de Barcelona//DibaCMS//EN
BEGIN:VEVENT
UID:3690
DTSTAMP:20260421T213504
DTSTART:20210819T220000
DTEND:20210819T220000
SUMMARY:Sessió del Beach Festival 2021
LOCATION:Platja Gran 08370 Calella
METHOD:PUBLISH
X-WR-CALNAME:calella@calella.cat
X-WR-TIMEZONE:Europe/Madrid
DESCRIPTION:
URI:https://www.calella.cat/actualitat/agenda/sessio-del-beach-festival-2021.html
CLASS:PUBLIC
END:VEVENT
END:VCALENDAR
