BEGIN:VCALENDAR
VERSION:2.0
CALSCALE:GREGORIAN
PRODID:-//Diputació de Barcelona//DibaCMS//EN
BEGIN:VEVENT
UID:3689
DTSTAMP:20260421T194008
DTSTART:20210819T210000
DTEND:20210819T210000
SUMMARY:Projecció Petites històries de Calella
LOCATION:Plaça de l'Ajuntament, 31 08370 Calella
METHOD:PUBLISH
X-WR-CALNAME:calella@calella.cat
X-WR-TIMEZONE:Europe/Madrid
DESCRIPTION:
URI:https://www.calella.cat/actualitat/agenda/projeccio-petites-histories-de-calella.html
CLASS:PUBLIC
END:VEVENT
END:VCALENDAR
