BEGIN:VCALENDAR
VERSION:2.0
CALSCALE:GREGORIAN
PRODID:-//Diputació de Barcelona//DibaCMS//EN
BEGIN:VEVENT
UID:3688
DTSTAMP:20260423T024519
DTSTART:20211028T100000
DTEND:20211028T100000
SUMMARY:Club de lectura en veu alta en català
LOCATION:Plaça de l'Ajuntament, 31 08370 Calella
METHOD:PUBLISH
X-WR-CALNAME:calella@calella.cat
X-WR-TIMEZONE:Europe/Madrid
DESCRIPTION:
URI:https://www.calella.cat/actualitat/agenda/3688-club-de-lectura-en-veu-alta-en-catala.html
CLASS:PUBLIC
END:VEVENT
END:VCALENDAR
