BEGIN:VCALENDAR
VERSION:2.0
CALSCALE:GREGORIAN
PRODID:-//Diputació de Barcelona//DibaCMS//EN
BEGIN:VEVENT
UID:3687
DTSTAMP:20260423T102710
DTSTART:20211028T210000
DTEND:20211028T210000
SUMMARY:Cinema: Les dues nits d’ahir
LOCATION:c. Església, 91 08370 Calella
METHOD:PUBLISH
X-WR-CALNAME:calella@calella.cat
X-WR-TIMEZONE:Europe/Madrid
DESCRIPTION:
URI:https://www.calella.cat/actualitat/agenda/cinema-les-dues-nits-dahir.html
CLASS:PUBLIC
END:VEVENT
END:VCALENDAR
