BEGIN:VCALENDAR
VERSION:2.0
CALSCALE:GREGORIAN
PRODID:-//Diputació de Barcelona//DibaCMS//EN
BEGIN:VEVENT
UID:3686
DTSTAMP:20260423T152819
DTSTART:20211010T183000
DTEND:20211010T183000
SUMMARY:Conferència: La trilogia de les espècies, botànica, cuina i farmàcia
LOCATION:c. Església, 91 08370 Calella
METHOD:PUBLISH
X-WR-CALNAME:calella@calella.cat
X-WR-TIMEZONE:Europe/Madrid
DESCRIPTION:
URI:https://www.calella.cat/actualitat/agenda/conferencia-la-trilogia-de-les-especies-botanica-cuina-i-farmacia.html
CLASS:PUBLIC
END:VEVENT
END:VCALENDAR
