BEGIN:VCALENDAR
VERSION:2.0
CALSCALE:GREGORIAN
PRODID:-//Diputació de Barcelona//DibaCMS//EN
BEGIN:VEVENT
UID:3685
DTSTAMP:20260423T102701
DTSTART:20211010T180000
DTEND:20211010T210000
SUMMARY:Ball de la gent gran
LOCATION:Pl. 1 d'Octubre de 2017 08370 Calella
METHOD:PUBLISH
X-WR-CALNAME:calella@calella.cat
X-WR-TIMEZONE:Europe/Madrid
DESCRIPTION:
URI:https://www.calella.cat/actualitat/agenda/ball-de-la-gent-gran.html
CLASS:PUBLIC
END:VEVENT
END:VCALENDAR
