BEGIN:VCALENDAR
VERSION:2.0
CALSCALE:GREGORIAN
PRODID:-//Diputació de Barcelona//DibaCMS//EN
BEGIN:VEVENT
UID:3679
DTSTAMP:20260423T090906
DTSTART:20211001T213000
DTEND:20211001T235500
SUMMARY:Gala d’inauguració de la 6a. Edició del Calella Film Festival 2021
LOCATION:c. Església, 91 08370 Calella
METHOD:PUBLISH
X-WR-CALNAME:calella@calella.cat
X-WR-TIMEZONE:Europe/Madrid
DESCRIPTION:
URI:https://www.calella.cat/actualitat/agenda/gala-dinauguracio-de-la-6a-edicio-del-calella-film-festival-2021.html
CLASS:PUBLIC
END:VEVENT
END:VCALENDAR
