BEGIN:VCALENDAR
VERSION:2.0
CALSCALE:GREGORIAN
PRODID:-//Diputació de Barcelona//DibaCMS//EN
BEGIN:VEVENT
UID:3676
DTSTAMP:20260423T121653
DTSTART:20211117T183000
DTEND:20211117T183000
SUMMARY:Conferència: Cinema i llibres
LOCATION:c. Església, 91 08370 Calella
METHOD:PUBLISH
X-WR-CALNAME:calella@calella.cat
X-WR-TIMEZONE:Europe/Madrid
DESCRIPTION:
URI:https://www.calella.cat/actualitat/agenda/conferencia-cinema-i-llibres.html
CLASS:PUBLIC
END:VEVENT
END:VCALENDAR
