BEGIN:VCALENDAR
VERSION:2.0
CALSCALE:GREGORIAN
PRODID:-//Diputació de Barcelona//DibaCMS//EN
BEGIN:VEVENT
UID:3675
DTSTAMP:20260423T024620
DTSTART:20211117T180000
DTEND:20211117T180000
SUMMARY:Taller Reimagina't: com crear un vídeo lliure de sexisme
LOCATION:c. Sant Jaume, 225-229 08370 Calella
METHOD:PUBLISH
X-WR-CALNAME:calella@calella.cat
X-WR-TIMEZONE:Europe/Madrid
DESCRIPTION:
URI:https://www.calella.cat/actualitat/agenda/taller-reimaginat-com-crear-un-video-lliure-de-sexisme.html
CLASS:PUBLIC
END:VEVENT
END:VCALENDAR
