BEGIN:VCALENDAR
VERSION:2.0
CALSCALE:GREGORIAN
PRODID:-//Diputació de Barcelona//DibaCMS//EN
BEGIN:VEVENT
UID:3674
DTSTAMP:20260423T023357
DTSTART:20211117T110000
DTEND:20211117T110000
SUMMARY:Creació del vídeo concurs Reimagina’t
LOCATION:c. Sant Jaume, 225-229 08370 Calella
METHOD:PUBLISH
X-WR-CALNAME:calella@calella.cat
X-WR-TIMEZONE:Europe/Madrid
DESCRIPTION:
URI:https://www.calella.cat/actualitat/agenda/creacio-del-video-concurs-reimaginat.html
CLASS:PUBLIC
END:VEVENT
END:VCALENDAR
