BEGIN:VCALENDAR
VERSION:2.0
CALSCALE:GREGORIAN
PRODID:-//Diputació de Barcelona//DibaCMS//EN
BEGIN:VEVENT
UID:3672
DTSTAMP:20260423T042501
DTSTART:20211117T100000
DTEND:20211117T100000
SUMMARY:Il·luminació del Far i la façana de l’Ajuntament de color porpra
LOCATION:Plaça de l'Ajuntament, 9 08370 Calella
METHOD:PUBLISH
X-WR-CALNAME:calella@calella.cat
X-WR-TIMEZONE:Europe/Madrid
DESCRIPTION:
URI:https://www.calella.cat/actualitat/agenda/illuminacio-del-far-i-la-facana-de-lajuntament-de-color-porpra.html
CLASS:PUBLIC
END:VEVENT
END:VCALENDAR
