BEGIN:VCALENDAR
VERSION:2.0
CALSCALE:GREGORIAN
PRODID:-//Diputació de Barcelona//DibaCMS//EN
BEGIN:VEVENT
UID:3669
DTSTAMP:20260423T054408
DTSTART:20211028T000000
DTEND:20211121T000000
SUMMARY:Exposició “Tres dies d’abril. 90 anys de la proclamació de la República”
LOCATION:Plaça de l'Ajuntament, 1-3 08370 Calella
METHOD:PUBLISH
X-WR-CALNAME:calella@calella.cat
X-WR-TIMEZONE:Europe/Madrid
DESCRIPTION:
URI:https://www.calella.cat/actualitat/agenda/exposicio-tres-dies-dabril-90-anys-de-la-proclamacio-de-la-republica.html
CLASS:PUBLIC
END:VEVENT
END:VCALENDAR
