BEGIN:VCALENDAR
VERSION:2.0
CALSCALE:GREGORIAN
PRODID:-//Diputació de Barcelona//DibaCMS//EN
BEGIN:VEVENT
UID:3668
DTSTAMP:20260423T194920
DTSTART:20211231T180000
DTEND:20211231T180000
SUMMARY:Sortida de l’Home dels Nassos
LOCATION:
METHOD:PUBLISH
X-WR-CALNAME:calella@calella.cat
X-WR-TIMEZONE:Europe/Madrid
DESCRIPTION:
URI:https://www.calella.cat/actualitat/agenda/sortida-de-lhome-dels-nassos.html
CLASS:PUBLIC
END:VEVENT
END:VCALENDAR
