BEGIN:VCALENDAR
VERSION:2.0
CALSCALE:GREGORIAN
PRODID:-//Diputació de Barcelona//DibaCMS//EN
BEGIN:VEVENT
UID:3667
DTSTAMP:20260423T151125
DTSTART:20211231T050000
DTEND:20211231T090000
SUMMARY:Obertura del Far
LOCATION:
METHOD:PUBLISH
X-WR-CALNAME:calella@calella.cat
X-WR-TIMEZONE:Europe/Madrid
DESCRIPTION:
URI:https://www.calella.cat/actualitat/agenda/obertura-del-far.html
CLASS:PUBLIC
END:VEVENT
END:VCALENDAR
