BEGIN:VCALENDAR
VERSION:2.0
CALSCALE:GREGORIAN
PRODID:-//Diputació de Barcelona//DibaCMS//EN
BEGIN:VEVENT
UID:3665
DTSTAMP:20260423T164459
DTSTART:20211218T000000
DTEND:20220109T000000
SUMMARY:Pessebre de la ciutat
LOCATION:c. Raval, 1 08370 Calella
METHOD:PUBLISH
X-WR-CALNAME:calella@calella.cat
X-WR-TIMEZONE:Europe/Madrid
DESCRIPTION:
URI:https://www.calella.cat/actualitat/agenda/pessebre-de-la-ciutat.html
CLASS:PUBLIC
END:VEVENT
END:VCALENDAR
