BEGIN:VCALENDAR
VERSION:2.0
CALSCALE:GREGORIAN
PRODID:-//Diputació de Barcelona//DibaCMS//EN
BEGIN:VEVENT
UID:3663
DTSTAMP:20260423T055657
DTSTART:20211201T183000
DTEND:20211201T183000
SUMMARY:Conferència “Del carbó al quad: els usos del bosc”
LOCATION:c. Església, 91 08370 Calella
METHOD:PUBLISH
X-WR-CALNAME:calella@calella.cat
X-WR-TIMEZONE:Europe/Madrid
DESCRIPTION:
URI:https://www.calella.cat/actualitat/agenda/conferencia-del-carbo-al-quad-els-usos-del-bosc.html
CLASS:PUBLIC
END:VEVENT
END:VCALENDAR
