BEGIN:VCALENDAR
VERSION:2.0
CALSCALE:GREGORIAN
PRODID:-//Diputació de Barcelona//DibaCMS//EN
BEGIN:VEVENT
UID:3662
DTSTAMP:20260423T042906
DTSTART:20211201T180000
DTEND:20211201T180000
SUMMARY:Taller divulgatiu sobre el llibre ¿Qui soc? 
LOCATION:Plaça de l'Ajuntament, 31 08370 Calella
METHOD:PUBLISH
X-WR-CALNAME:calella@calella.cat
X-WR-TIMEZONE:Europe/Madrid
DESCRIPTION:
URI:https://www.calella.cat/actualitat/agenda/taller-divulgatiu-sobre-el-llibre-qui-soc-.html
CLASS:PUBLIC
END:VEVENT
END:VCALENDAR
