BEGIN:VCALENDAR
VERSION:2.0
CALSCALE:GREGORIAN
PRODID:-//Diputació de Barcelona//DibaCMS//EN
BEGIN:VEVENT
UID:3660
DTSTAMP:20260423T024753
DTSTART:20211201T110000
DTEND:20211201T110000
SUMMARY:Taller d’interessos professionals “De què t’agradaria treballar?”
LOCATION:c. Sant Jaume, 225-229 08370 Calella
METHOD:PUBLISH
X-WR-CALNAME:calella@calella.cat
X-WR-TIMEZONE:Europe/Madrid
DESCRIPTION:
URI:https://www.calella.cat/actualitat/agenda/taller-dinteressos-professionals-de-que-tagradaria-treballar.html
CLASS:PUBLIC
END:VEVENT
END:VCALENDAR
