BEGIN:VCALENDAR
VERSION:2.0
CALSCALE:GREGORIAN
PRODID:-//Diputació de Barcelona//DibaCMS//EN
BEGIN:VEVENT
UID:3659
DTSTAMP:20260424T003955
DTSTART:20211201T103000
DTEND:20211201T103000
SUMMARY:L’hora del consumidor
LOCATION:Sant Jaume, 339 (edifici Fàbrica Llobet-Guri), 2a planta 08370 Calella
METHOD:PUBLISH
X-WR-CALNAME:calella@calella.cat
X-WR-TIMEZONE:Europe/Madrid
DESCRIPTION:
URI:https://www.calella.cat/actualitat/agenda/lhora-del-consumidor.html
CLASS:PUBLIC
END:VEVENT
END:VCALENDAR
