BEGIN:VCALENDAR
VERSION:2.0
CALSCALE:GREGORIAN
PRODID:-//Diputació de Barcelona//DibaCMS//EN
BEGIN:VEVENT
UID:3658
DTSTAMP:20260423T102940
DTSTART:20211201T093000
DTEND:20211201T110000
SUMMARY:Passejades
LOCATION:Parc Dalmau 08370 Calella
METHOD:PUBLISH
X-WR-CALNAME:calella@calella.cat
X-WR-TIMEZONE:Europe/Madrid
DESCRIPTION:
URI:https://www.calella.cat/actualitat/agenda/passejades.html
CLASS:PUBLIC
END:VEVENT
END:VCALENDAR
