BEGIN:VCALENDAR
VERSION:2.0
CALSCALE:GREGORIAN
PRODID:-//Diputació de Barcelona//DibaCMS//EN
BEGIN:VEVENT
UID:3657
DTSTAMP:20260423T103029
DTSTART:20211201T080000
DTEND:20220109T200000
SUMMARY:Campanya de Nadal de l’Associació de Comerciants Calella Centre Comercial
LOCATION:
METHOD:PUBLISH
X-WR-CALNAME:calella@calella.cat
X-WR-TIMEZONE:Europe/Madrid
DESCRIPTION:SumaQuilòmetres i SumaDiners

URI:https://www.calella.cat/actualitat/agenda/campanya-de-nadal-de-lassociacio-de-comerciants-calella-centre-comercial.html
CLASS:PUBLIC
END:VEVENT
END:VCALENDAR
