BEGIN:VCALENDAR
VERSION:2.0
CALSCALE:GREGORIAN
PRODID:-//Diputació de Barcelona//DibaCMS//EN
BEGIN:VEVENT
UID:3655
DTSTAMP:20260423T085821
DTSTART:20211203T180000
DTEND:20211203T200000
SUMMARY:Passejada de personatges d’animació infantil
LOCATION:
METHOD:PUBLISH
X-WR-CALNAME:calella@calella.cat
X-WR-TIMEZONE:Europe/Madrid
DESCRIPTION:Al centre comercial

URI:https://www.calella.cat/actualitat/agenda/passejada-de-personatges-danimacio-infantil.html
CLASS:PUBLIC
END:VEVENT
END:VCALENDAR
