BEGIN:VCALENDAR
VERSION:2.0
CALSCALE:GREGORIAN
PRODID:-//Diputació de Barcelona//DibaCMS//EN
BEGIN:VEVENT
UID:3654
DTSTAMP:20260425T132423
DTSTART:20220120T210000
DTEND:20220120T210000
SUMMARY:Sorteig de la campanya de Nadal de l’Associació de Comerciants Calella Centre Comercial
LOCATION:
METHOD:PUBLISH
X-WR-CALNAME:calella@calella.cat
X-WR-TIMEZONE:Europe/Madrid
DESCRIPTION:“Aquest Nadal, compra al comerç local”

URI:https://www.calella.cat/actualitat/agenda/sorteig-de-la-campanya-de-nadal-de-lassociacio-de-comerciants-calella-centre-comercial.html
CLASS:PUBLIC
END:VEVENT
END:VCALENDAR
