BEGIN:VCALENDAR
VERSION:2.0
CALSCALE:GREGORIAN
PRODID:-//Diputació de Barcelona//DibaCMS//EN
BEGIN:VEVENT
UID:3653
DTSTAMP:20260423T164229
DTSTART:20220114T000000
DTEND:20220220T000000
SUMMARY:Exposició Locus Amoenus, Llocs Idílics
LOCATION:Plaça de l'Ajuntament, 1-4 08370 Calella
METHOD:PUBLISH
X-WR-CALNAME:calella@calella.cat
X-WR-TIMEZONE:Europe/Madrid
DESCRIPTION:de Rafael Romero

URI:https://www.calella.cat/actualitat/agenda/exposicio-locus-amoenus-llocs-idilics.html
CLASS:PUBLIC
END:VEVENT
END:VCALENDAR
