BEGIN:VCALENDAR
VERSION:2.0
CALSCALE:GREGORIAN
PRODID:-//Diputació de Barcelona//DibaCMS//EN
BEGIN:VEVENT
UID:3652
DTSTAMP:20260423T115414
DTSTART:20211203T000000
DTEND:20220123T000000
SUMMARY:Exposició Abcedari Solidari
LOCATION:c. Sant Pere, 122-140 08370 Calella
METHOD:PUBLISH
X-WR-CALNAME:calella@calella.cat
X-WR-TIMEZONE:Europe/Madrid
DESCRIPTION:
URI:https://www.calella.cat/actualitat/agenda/exposicio-abcedari-solidari.html
CLASS:PUBLIC
END:VEVENT
END:VCALENDAR
