BEGIN:VCALENDAR
VERSION:2.0
CALSCALE:GREGORIAN
PRODID:-//Diputació de Barcelona//DibaCMS//EN
BEGIN:VEVENT
UID:3565
DTSTAMP:20260423T105756
DTSTART:20210924T190000
DTEND:20210924T190000
SUMMARY:Recital Amalgamant paraules a càrrec de Jesús Gasco
LOCATION:Carretera Nacional II, km. 666 08370 Calella
METHOD:PUBLISH
X-WR-CALNAME:calella@calella.cat
X-WR-TIMEZONE:Europe/Madrid
DESCRIPTION:Escrits musicats per Jaume Jiménez i amb la col·laboració de Clàudia Morató i els duets Aspriu i Sembrados

URI:https://www.calella.cat/actualitat/agenda/recital-amalgamant-paraules-a-carrec-de-jesus-gasco.html
CLASS:PUBLIC
END:VEVENT
END:VCALENDAR
