BEGIN:VCALENDAR
VERSION:2.0
CALSCALE:GREGORIAN
PRODID:-//Diputació de Barcelona//DibaCMS//EN
BEGIN:VEVENT
UID:3564
DTSTAMP:20260423T150836
DTSTART:20210923T110000
DTEND:20210923T203000
SUMMARY:Festa Major de La Minerva 2021
LOCATION:
METHOD:PUBLISH
X-WR-CALNAME:calella@calella.cat
X-WR-TIMEZONE:Europe/Madrid
DESCRIPTION:Del 23 al 26 de setembre

URI:https://www.calella.cat/actualitat/agenda/3564-festa-major-de-la-minerva-2021.html
CLASS:PUBLIC
END:VEVENT
END:VCALENDAR
