BEGIN:VCALENDAR
VERSION:2.0
CALSCALE:GREGORIAN
PRODID:-//Diputació de Barcelona//DibaCMS//EN
BEGIN:VEVENT
UID:3560
DTSTAMP:20260423T102841
DTSTART:20210910T080000
DTEND:20220109T230000
SUMMARY:Exposició "Niños de la guerra"
LOCATION:c. Escoles Pies, 36 08370 Calella
METHOD:PUBLISH
X-WR-CALNAME:calella@calella.cat
X-WR-TIMEZONE:Europe/Madrid
DESCRIPTION:
URI:https://www.calella.cat/actualitat/agenda/exposicio-ninos-de-la-guerra.html
CLASS:PUBLIC
END:VEVENT
END:VCALENDAR
