BEGIN:VCALENDAR
VERSION:2.0
CALSCALE:GREGORIAN
PRODID:-//Diputació de Barcelona//DibaCMS//EN
BEGIN:VEVENT
UID:3120
DTSTAMP:20260422T234311
DTSTART:20210917T000000
DTEND:20210919T000000
SUMMARY:30a. edició del festival de Jazz i Blues Joan Josep Ribas “Txespi”
LOCATION:Sala Mozart, plaça de l’Església, el Xiri 9 i Restaurant la Gàbia 
METHOD:PUBLISH
X-WR-CALNAME:calella@calella.cat
X-WR-TIMEZONE:Europe/Madrid
DESCRIPTION:Actuacions de: Jazz Crosteau Quartet, Paul Newman, DJ Juke Joint Jams i DJ Claudio de Rossi, Queralt Albinyana Blues Trio; Sergi Estella, Quico Pi de la Serra, Koko-Jean & The Tonics, Lluís Navarro i Nestor Compadre, Andreu Cunill i Sònia Sánchez i Johnny Big Stone & Sweet Maria.

URI:https://www.calella.cat/actualitat/agenda/30a-edicio-del-festival-de-jazz-i-blues-joan-josep-ribas-txespi.html
CLASS:PUBLIC
END:VEVENT
END:VCALENDAR
