BEGIN:VCALENDAR
VERSION:2.0
CALSCALE:GREGORIAN
PRODID:-//Diputació de Barcelona//DibaCMS//EN
BEGIN:VEVENT
UID:2519
DTSTAMP:20260423T102952
DTSTART:20210910T210000
DTEND:20210910T210000
SUMMARY:Sortida de la Marxa de Torxes per a la Independència
LOCATION:Plaça de l'Ajuntament 08370 Calella
METHOD:PUBLISH
X-WR-CALNAME:calella@calella.cat
X-WR-TIMEZONE:Europe/Madrid
DESCRIPTION:Recorregut dels ciutadans amb les seves torxes pels carrers Bisbe Sivilla, Romaní, Església, Cervantes, per finalitzar a la plaça de Catalunya.

URI:https://www.calella.cat/actualitat/agenda/sortida-de-la-marxa-de-torxes-per-a-la-independencia.html
CLASS:PUBLIC
END:VEVENT
END:VCALENDAR
