BEGIN:VCALENDAR
VERSION:2.0
CALSCALE:GREGORIAN
PRODID:-//Diputació de Barcelona//DibaCMS//EN
BEGIN:VEVENT
UID:2515
DTSTAMP:20260422T135215
DTSTART:20210906T190000
DTEND:20210906T190000
SUMMARY:Trobada del club de lectura Llibre Obert
LOCATION:Plaça de l'Ajuntament, 31 08370 Calella
METHOD:PUBLISH
X-WR-CALNAME:calella@calella.cat
X-WR-TIMEZONE:Europe/Madrid
DESCRIPTION:A càrrec de Lluis Barri.

URI:https://www.calella.cat/actualitat/agenda/trobada-del-club-de-lectura-llibre-obert.html
CLASS:PUBLIC
END:VEVENT
END:VCALENDAR
