BEGIN:VCALENDAR
VERSION:2.0
CALSCALE:GREGORIAN
PRODID:-//Diputació de Barcelona//DibaCMS//EN
BEGIN:VEVENT
UID:1991
DTSTAMP:20260420T022841
DTSTART:20210903T100000
DTEND:20211010T140000
SUMMARY:Exposició “Vestits per ballar”
LOCATION:Plaça de l'Ajuntament, 1-3 08370 Calella
METHOD:PUBLISH
X-WR-CALNAME:calella@calella.cat
X-WR-TIMEZONE:Europe/Madrid
DESCRIPTION:
URI:https://www.calella.cat/actualitat/agenda/exposicio-vestits-per-ballar.html
CLASS:PUBLIC
END:VEVENT
END:VCALENDAR
