BEGIN:VCALENDAR
VERSION:2.0
CALSCALE:GREGORIAN
PRODID:-//Diputació de Barcelona//DibaCMS//EN
BEGIN:VEVENT
UID:1799
DTSTAMP:20260422T120340
DTSTART:20210905T193000
DTEND:20210905T193000
SUMMARY:Audició de sardanes
LOCATION:c. Anselm Clavé, s/n 08370 Calella
METHOD:PUBLISH
X-WR-CALNAME:calella@calella.cat
X-WR-TIMEZONE:Europe/Madrid
DESCRIPTION:
URI:https://www.calella.cat/actualitat/agenda/1799-audicio-de-sardanes.html
CLASS:PUBLIC
END:VEVENT
END:VCALENDAR
