BEGIN:VCALENDAR
VERSION:2.0
CALSCALE:GREGORIAN
PRODID:-//Diputació de Barcelona//DibaCMS//EN
BEGIN:VEVENT
UID:1798
DTSTAMP:20260422T121219
DTSTART:20210905T100000
DTEND:20210905T130000
SUMMARY:Actuació dels grups participants a les Jornades Internacionals Folklòriques de Catalunya
LOCATION:Plaça de l'Església 08370 Calella
METHOD:PUBLISH
X-WR-CALNAME:calella@calella.cat
X-WR-TIMEZONE:Europe/Madrid
DESCRIPTION:
URI:https://www.calella.cat/actualitat/agenda/1798-actuacio-dels-grups-participants-a-les-jornades-internacionals-folkloriques-de-catalunya.html
CLASS:PUBLIC
END:VEVENT
END:VCALENDAR
