BEGIN:VCALENDAR
VERSION:2.0
CALSCALE:GREGORIAN
PRODID:-//Diputació de Barcelona//DibaCMS//EN
BEGIN:VEVENT
UID:1797
DTSTAMP:20260420T071548
DTSTART:20210905T090000
DTEND:20210905T150000
SUMMARY:Trobada d’intercanvi i col·leccionisme
LOCATION:c. Anselm Clavé, s/n 08370 Calella
METHOD:PUBLISH
X-WR-CALNAME:calella@calella.cat
X-WR-TIMEZONE:Europe/Madrid
DESCRIPTION:
URI:https://www.calella.cat/actualitat/agenda/trobada-dintercanvi-i-colleccionisme.html
CLASS:PUBLIC
END:VEVENT
END:VCALENDAR
