BEGIN:VCALENDAR
VERSION:2.0
CALSCALE:GREGORIAN
PRODID:-//Diputació de Barcelona//DibaCMS//EN
BEGIN:VEVENT
UID:1795
DTSTAMP:20260422T115739
DTSTART:20210904T110000
DTEND:20210904T110000
SUMMARY:Veredicte del 30è. trofeu Rafel Carpinell de fotografia
LOCATION:c. Sant Pere, 152 08370 Calella
METHOD:PUBLISH
X-WR-CALNAME:calella@calella.cat
X-WR-TIMEZONE:Europe/Madrid
DESCRIPTION:
URI:https://www.calella.cat/actualitat/agenda/veredicte-del-30e-trofeu-rafel-carpinell-de-fotografia.html
CLASS:PUBLIC
END:VEVENT
END:VCALENDAR
