BEGIN:VCALENDAR
VERSION:2.0
CALSCALE:GREGORIAN
PRODID:-//Diputació de Barcelona//DibaCMS//EN
BEGIN:VEVENT
UID:1794
DTSTAMP:20260422T120147
DTSTART:20210904T100000
DTEND:20210904T220000
SUMMARY:Fira Marinera
LOCATION:c. Anselm Clavé, s/n 08370 Calella
METHOD:PUBLISH
X-WR-CALNAME:calella@calella.cat
X-WR-TIMEZONE:Europe/Madrid
DESCRIPTION:
URI:https://www.calella.cat/actualitat/agenda/fira-marinera.html
CLASS:PUBLIC
END:VEVENT
END:VCALENDAR
