BEGIN:VCALENDAR
VERSION:2.0
CALSCALE:GREGORIAN
PRODID:-//Diputació de Barcelona//DibaCMS//EN
BEGIN:VEVENT
UID:1793
DTSTAMP:20260420T041501
DTSTART:20210903T220000
DTEND:20210903T220000
SUMMARY:Albert Pla en concert
LOCATION:Carretera Nacional II, km. 666 08370 Calella
METHOD:PUBLISH
X-WR-CALNAME:calella@calella.cat
X-WR-TIMEZONE:Europe/Madrid
DESCRIPTION:
URI:https://www.calella.cat/actualitat/agenda/albert-pla-en-concert.html
CLASS:PUBLIC
END:VEVENT
END:VCALENDAR
