BEGIN:VCALENDAR
VERSION:2.0
CALSCALE:GREGORIAN
PRODID:-//Diputació de Barcelona//DibaCMS//EN
BEGIN:VEVENT
UID:1792
DTSTAMP:20260420T054523
DTSTART:20210903T210000
DTEND:20210903T210000
SUMMARY:Acte inaugural de les Jornades Internacionals Folklòriques de Catalunya
LOCATION:c. Anselm Clavé, s/n 08370 Calella
METHOD:PUBLISH
X-WR-CALNAME:calella@calella.cat
X-WR-TIMEZONE:Europe/Madrid
DESCRIPTION:
URI:https://www.calella.cat/actualitat/agenda/acte-inaugural-de-les-jornades-internacionals-folkloriques-de-catalunya.html
CLASS:PUBLIC
END:VEVENT
END:VCALENDAR
