BEGIN:VCALENDAR
VERSION:2.0
CALSCALE:GREGORIAN
PRODID:-//Diputació de Barcelona//DibaCMS//EN
BEGIN:VEVENT
UID:1791
DTSTAMP:20260420T073512
DTSTART:20210903T210000
DTEND:20210903T210000
SUMMARY:Havaneres amb Els Pescadors de l’Escala
LOCATION:Plaça Catalunya 08370 Calella
METHOD:PUBLISH
X-WR-CALNAME:calella@calella.cat
X-WR-TIMEZONE:Europe/Madrid
DESCRIPTION:
URI:https://www.calella.cat/actualitat/agenda/havaneres-amb-els-pescadors-de-lescala.html
CLASS:PUBLIC
END:VEVENT
END:VCALENDAR
