BEGIN:VCALENDAR
VERSION:2.0
CALSCALE:GREGORIAN
PRODID:-//Diputació de Barcelona//DibaCMS//EN
BEGIN:VEVENT
UID:1786
DTSTAMP:20260421T193940
DTSTART:20210827T210000
DTEND:20210827T210000
SUMMARY:Contes per a adults: 'Contes de colors'
LOCATION:Plaça de l'Ajuntament, 31 08370 Calella
METHOD:PUBLISH
X-WR-CALNAME:calella@calella.cat
X-WR-TIMEZONE:Europe/Madrid
DESCRIPTION:
URI:https://www.calella.cat/actualitat/agenda/contes-per-a-adults-contes-de-colors.html
CLASS:PUBLIC
END:VEVENT
END:VCALENDAR
