BEGIN:VCALENDAR
VERSION:2.0
CALSCALE:GREGORIAN
PRODID:-//Diputació de Barcelona//DibaCMS//EN
BEGIN:VEVENT
UID:1785
DTSTAMP:20260421T193634
DTSTART:20210827T203000
DTEND:20210827T203000
SUMMARY:Actuacions dels participants del Calella Folk Festival
LOCATION:Plaça de l'Església 08370 Calella
METHOD:PUBLISH
X-WR-CALNAME:calella@calella.cat
X-WR-TIMEZONE:Europe/Madrid
DESCRIPTION:
URI:https://www.calella.cat/actualitat/agenda/actuacions-dels-participants-del-calella-folk-festival.html
CLASS:PUBLIC
END:VEVENT
END:VCALENDAR
