BEGIN:VCALENDAR
VERSION:2.0
CALSCALE:GREGORIAN
PRODID:-//Diputació de Barcelona//DibaCMS//EN
BEGIN:VEVENT
UID:1637
DTSTAMP:20260421T164401
DTSTART:20210723T170000
DTEND:20211114T210000
SUMMARY:Exposició “Pedres i barraques. Les construccions de pedra seca”
LOCATION:c. Sant Pere, 122-140 08370 Calella
METHOD:PUBLISH
X-WR-CALNAME:calella@calella.cat
X-WR-TIMEZONE:Europe/Madrid
DESCRIPTION:
URI:https://www.calella.cat/actualitat/agenda/exposicio-pedres-i-barraques-les-construccions-de-pedra-seca.html
CLASS:PUBLIC
END:VEVENT
END:VCALENDAR
