BEGIN:VCALENDAR
VERSION:2.0
CALSCALE:GREGORIAN
PRODID:-//Diputació de Barcelona//DibaCMS//EN
BEGIN:VEVENT
UID:DI_6583@www.calella.cat
DTSTAMP:20260421T121057
DTSTART:20251205T000000
DTEND:20260523T230000
SUMMARY:Escena Calella
LOCATION:
METHOD:PUBLISH
X-WR-CALNAME:calella@calella.cat
X-WR-TIMEZONE:Europe/Madrid
DESCRIPTION:
URI:https://www.calella.cat/actualitat/agenda/escena-calella.html
CLASS:PUBLIC
END:VEVENT
BEGIN:VEVENT
UID:DI_6752@www.calella.cat
DTSTAMP:20260421T121057
DTSTART:20251219T170000
DTEND:20260628T200000
SUMMARY:Exposició 100 anys
LOCATION:
METHOD:PUBLISH
X-WR-CALNAME:calella@calella.cat
X-WR-TIMEZONE:Europe/Madrid
DESCRIPTION:
URI:https://www.calella.cat/actualitat/agenda/exposicio-100-anys.html
CLASS:PUBLIC
END:VEVENT
BEGIN:VEVENT
UID:DI_6756@www.calella.cat
DTSTAMP:20260421T121057
DTSTART:20260411T090000
DTEND:20260510T200000
SUMMARY:Murmuris de quietud Alisa Sibirskaya
LOCATION:
METHOD:PUBLISH
X-WR-CALNAME:calella@calella.cat
X-WR-TIMEZONE:Europe/Madrid
DESCRIPTION:
URI:https://www.calella.cat/actualitat/agenda/murmuris-de-quietud-alisa-sibirskaya.html
CLASS:PUBLIC
END:VEVENT
BEGIN:VEVENT
UID:DI_6737@www.calella.cat
DTSTAMP:20260421T121057
DTSTART:20260413T153000
DTEND:20260425T133000
SUMMARY:Jornada d'intercanvi de llibres
LOCATION:
METHOD:PUBLISH
X-WR-CALNAME:calella@calella.cat
X-WR-TIMEZONE:Europe/Madrid
DESCRIPTION:
URI:https://www.calella.cat/actualitat/agenda/jornada-dintercanvi-de-llibres.html
CLASS:PUBLIC
END:VEVENT
BEGIN:VEVENT
UID:DI_6764@www.calella.cat
DTSTAMP:20260421T121057
DTSTART:20260418T180000
DTEND:20260802T200000
SUMMARY:Tovallons d'art
LOCATION:
METHOD:PUBLISH
X-WR-CALNAME:calella@calella.cat
X-WR-TIMEZONE:Europe/Madrid
DESCRIPTION:
URI:https://www.calella.cat/actualitat/agenda/tovallons-dart.html
CLASS:PUBLIC
END:VEVENT
BEGIN:VEVENT
UID:DI_6738@www.calella.cat
DTSTAMP:20260421T121057
DTSTART:20260421T193000
DTEND:20260421T203000
SUMMARY:La Cuina Catalana de fa 700 anys
LOCATION:
METHOD:PUBLISH
X-WR-CALNAME:calella@calella.cat
X-WR-TIMEZONE:Europe/Madrid
DESCRIPTION:
URI:https://www.calella.cat/actualitat/agenda/la-cuina-catalana-de-fa-700-anys.html
CLASS:PUBLIC
END:VEVENT
BEGIN:VEVENT
UID:DI_6739@www.calella.cat
DTSTAMP:20260421T121057
DTSTART:20260422T180000
DTEND:20260425T101500
SUMMARY:Diada de Sant Jordi
LOCATION:
METHOD:PUBLISH
X-WR-CALNAME:calella@calella.cat
X-WR-TIMEZONE:Europe/Madrid
DESCRIPTION:
URI:https://www.calella.cat/actualitat/agenda/diada-de-sant-jordi.html
CLASS:PUBLIC
END:VEVENT
BEGIN:VEVENT
UID:DI_6763@www.calella.cat
DTSTAMP:20260421T121057
DTSTART:20260424T180000
DTEND:20260429T180000
SUMMARY:Dia internacional de la Dansa
LOCATION:
METHOD:PUBLISH
X-WR-CALNAME:calella@calella.cat
X-WR-TIMEZONE:Europe/Madrid
DESCRIPTION:
URI:https://www.calella.cat/actualitat/agenda/dia-internacional-de-la-dansa.html
CLASS:PUBLIC
END:VEVENT
BEGIN:VEVENT
UID:DI_6740@www.calella.cat
DTSTAMP:20260421T121057
DTSTART:20260426T180000
DTEND:20260426T190000
SUMMARY:CineXic- La Mama Muu torna a casa
LOCATION:
METHOD:PUBLISH
X-WR-CALNAME:calella@calella.cat
X-WR-TIMEZONE:Europe/Madrid
DESCRIPTION:
URI:https://www.calella.cat/actualitat/agenda/cinexic-la-mama-muu-torna-a-casa.html
CLASS:PUBLIC
END:VEVENT
BEGIN:VEVENT
UID:DI_6750@www.calella.cat
DTSTAMP:20260421T121057
DTSTART:20260429T090000
DTEND:20260429T120000
SUMMARY:Malestars Emocionals I Salut Mental
LOCATION:
METHOD:PUBLISH
X-WR-CALNAME:calella@calella.cat
X-WR-TIMEZONE:Europe/Madrid
DESCRIPTION:
URI:https://www.calella.cat/actualitat/agenda/malestars-emocionals-i-salut-mental.html
CLASS:PUBLIC
END:VEVENT
BEGIN:VEVENT
UID:DI_6741@www.calella.cat
DTSTAMP:20260421T121057
DTSTART:20260430T153000
DTEND:20260501T203000
SUMMARY:12th Costa Barcelona Music Festival – Calella 2026”
LOCATION:
METHOD:PUBLISH
X-WR-CALNAME:calella@calella.cat
X-WR-TIMEZONE:Europe/Madrid
DESCRIPTION:
URI:https://www.calella.cat/actualitat/agenda/12th-costa-barcelona-music-festival--calella-2026.html
CLASS:PUBLIC
END:VEVENT
BEGIN:VEVENT
UID:DI_6754@www.calella.cat
DTSTAMP:20260421T121057
DTSTART:20260504T083000
DTEND:20260513T113000
SUMMARY:Preinscripcions Escolars Online 
LOCATION:
METHOD:PUBLISH
X-WR-CALNAME:calella@calella.cat
X-WR-TIMEZONE:Europe/Madrid
DESCRIPTION:
URI:https://www.calella.cat/actualitat/agenda/preinscripcions-escolars-online-.html
CLASS:PUBLIC
END:VEVENT
BEGIN:VEVENT
UID:DI_6760@www.calella.cat
DTSTAMP:20260421T121057
DTSTART:20260505T193000
DTEND:20260505T203000
SUMMARY:El senyor de les papallones vida i obra de Miquel Cuni Martorell
LOCATION:
METHOD:PUBLISH
X-WR-CALNAME:calella@calella.cat
X-WR-TIMEZONE:Europe/Madrid
DESCRIPTION:
URI:https://www.calella.cat/actualitat/agenda/el-senyor-de-les-papallones-vida-i-obra-de-miquel-cuni-martorell.html
CLASS:PUBLIC
END:VEVENT
BEGIN:VEVENT
UID:DI_6748@www.calella.cat
DTSTAMP:20260421T121057
DTSTART:20260508T210000
DTEND:20260529T230000
SUMMARY:Canviem la nit
LOCATION:
METHOD:PUBLISH
X-WR-CALNAME:calella@calella.cat
X-WR-TIMEZONE:Europe/Madrid
DESCRIPTION:
URI:https://www.calella.cat/actualitat/agenda/canviem-la-nit.html
CLASS:PUBLIC
END:VEVENT
BEGIN:VEVENT
UID:DI_6759@www.calella.cat
DTSTAMP:20260421T121057
DTSTART:20260531T180000
DTEND:20260531T200000
SUMMARY:Ernest i Celestine, contes de primavera
LOCATION:
METHOD:PUBLISH
X-WR-CALNAME:calella@calella.cat
X-WR-TIMEZONE:Europe/Madrid
DESCRIPTION:
URI:https://www.calella.cat/actualitat/agenda/ernest-i-celestine-contes-de-primavera.html
CLASS:PUBLIC
END:VEVENT
END:VCALENDAR
